BEGIN:VCALENDAR
VERSION:2.0
PRODID:-//Dr. D.A. Perley Elementary School - ECPv6.15.20//NONSGML v1.0//EN
CALSCALE:GREGORIAN
METHOD:PUBLISH
X-WR-CALNAME:Dr. D.A. Perley Elementary School
X-ORIGINAL-URL:https://ddapes.sd51.bc.ca
X-WR-CALDESC:Events for Dr. D.A. Perley Elementary School
REFRESH-INTERVAL;VALUE=DURATION:PT1H
X-Robots-Tag:noindex
X-PUBLISHED-TTL:PT1H
BEGIN:VTIMEZONE
TZID:America/Vancouver
BEGIN:DAYLIGHT
TZOFFSETFROM:-0800
TZOFFSETTO:-0700
TZNAME:PDT
DTSTART:20220313T100000
END:DAYLIGHT
BEGIN:STANDARD
TZOFFSETFROM:-0700
TZOFFSETTO:-0800
TZNAME:PST
DTSTART:20221106T090000
END:STANDARD
BEGIN:DAYLIGHT
TZOFFSETFROM:-0800
TZOFFSETTO:-0700
TZNAME:PDT
DTSTART:20230312T100000
END:DAYLIGHT
BEGIN:STANDARD
TZOFFSETFROM:-0700
TZOFFSETTO:-0800
TZNAME:PST
DTSTART:20231105T090000
END:STANDARD
BEGIN:DAYLIGHT
TZOFFSETFROM:-0800
TZOFFSETTO:-0700
TZNAME:PDT
DTSTART:20240310T100000
END:DAYLIGHT
BEGIN:STANDARD
TZOFFSETFROM:-0700
TZOFFSETTO:-0800
TZNAME:PST
DTSTART:20241103T090000
END:STANDARD
END:VTIMEZONE
BEGIN:VEVENT
DTSTART;VALUE=DATE:20230307
DTEND;VALUE=DATE:20230308
DTSTAMP:20260420T182557
CREATED:20230227T180735Z
LAST-MODIFIED:20230227T181234Z
UID:49824-1678147200-1678233599@ddapes.sd51.bc.ca
SUMMARY:Twin Day
DESCRIPTION:
URL:https://ddapes.sd51.bc.ca/event/twin-day/
END:VEVENT
BEGIN:VEVENT
DTSTART;VALUE=DATE:20230306
DTEND;VALUE=DATE:20230307
DTSTAMP:20260420T182557
CREATED:20230227T180711Z
LAST-MODIFIED:20230227T181309Z
UID:49822-1678060800-1678147199@ddapes.sd51.bc.ca
SUMMARY:PJ Day
DESCRIPTION:
URL:https://ddapes.sd51.bc.ca/event/pj-day/
END:VEVENT
BEGIN:VEVENT
DTSTART;TZID=America/Vancouver:20230228T140000
DTEND;TZID=America/Vancouver:20230228T170000
DTSTAMP:20260420T182557
CREATED:20230207T001107Z
LAST-MODIFIED:20230207T001213Z
UID:49781-1677592800-1677603600@ddapes.sd51.bc.ca
SUMMARY:Gr. 6/7 Basketball to CLES
DESCRIPTION:
URL:https://ddapes.sd51.bc.ca/event/gr-6-7-basketball-to-cles/
END:VEVENT
BEGIN:VEVENT
DTSTART;VALUE=DATE:20230224
DTEND;VALUE=DATE:20230225
DTSTAMP:20260420T182557
CREATED:20230131T224047Z
LAST-MODIFIED:20230131T224047Z
UID:49729-1677196800-1677283199@ddapes.sd51.bc.ca
SUMMARY:SCHOOL IN SESSION
DESCRIPTION:
URL:https://ddapes.sd51.bc.ca/event/school-in-session/
END:VEVENT
BEGIN:VEVENT
DTSTART;TZID=America/Vancouver:20230223T140000
DTEND;TZID=America/Vancouver:20230223T170000
DTSTAMP:20260420T182557
CREATED:20230207T001012Z
LAST-MODIFIED:20230207T001012Z
UID:49779-1677160800-1677171600@ddapes.sd51.bc.ca
SUMMARY:Gr. 6/7 Basketball to Hutton
DESCRIPTION:
URL:https://ddapes.sd51.bc.ca/event/gr-6-7-basketball-to-hutton/
END:VEVENT
BEGIN:VEVENT
DTSTART;TZID=America/Vancouver:20230222T083000
DTEND;TZID=America/Vancouver:20230222T153000
DTSTAMP:20260420T182557
CREATED:20230131T225515Z
LAST-MODIFIED:20230207T001635Z
UID:49747-1677054600-1677079800@ddapes.sd51.bc.ca
SUMMARY:Ski/Board Program - Legere/McKinlay-Perry
DESCRIPTION:
URL:https://ddapes.sd51.bc.ca/event/ski-board-program-6/
END:VEVENT
BEGIN:VEVENT
DTSTART;TZID=America/Vancouver:20230222T080000
DTEND;TZID=America/Vancouver:20230222T170000
DTSTAMP:20260420T182557
CREATED:20230216T231938Z
LAST-MODIFIED:20230216T231956Z
UID:49802-1677052800-1677085200@ddapes.sd51.bc.ca
SUMMARY:Anti-Bullying Day - wear pink!
DESCRIPTION:
URL:https://ddapes.sd51.bc.ca/event/anti-bullying-day-wear-pink/
END:VEVENT
BEGIN:VEVENT
DTSTART;TZID=America/Vancouver:20230221T083000
DTEND;TZID=America/Vancouver:20230221T153000
DTSTAMP:20260420T182557
CREATED:20230131T225123Z
LAST-MODIFIED:20230207T002055Z
UID:49739-1676968200-1676993400@ddapes.sd51.bc.ca
SUMMARY:SKI/BOARD Program - Mace/Zadan/Sidwell/Adrain's Gr.4s
DESCRIPTION:
URL:https://ddapes.sd51.bc.ca/event/ski-board-program-3/
END:VEVENT
BEGIN:VEVENT
DTSTART;VALUE=DATE:20230220
DTEND;VALUE=DATE:20230221
DTSTAMP:20260420T182557
CREATED:20230131T223934Z
LAST-MODIFIED:20230227T182942Z
UID:49727-1676851200-1676937599@ddapes.sd51.bc.ca
SUMMARY:FAMILY DAY - no school
DESCRIPTION:
URL:https://ddapes.sd51.bc.ca/event/family-day-no-school/
END:VEVENT
BEGIN:VEVENT
DTSTART;TZID=America/Vancouver:20230215T123000
DTEND;TZID=America/Vancouver:20230215T153000
DTSTAMP:20260420T182557
CREATED:20230207T000805Z
LAST-MODIFIED:20230207T000918Z
UID:49776-1676464200-1676475000@ddapes.sd51.bc.ca
SUMMARY:Gr. 6/7 Basketball at Perley against Greenwood
DESCRIPTION:
URL:https://ddapes.sd51.bc.ca/event/grade-6-7-basketball-at-perley-against-greenwood/
END:VEVENT
BEGIN:VEVENT
DTSTART;TZID=America/Vancouver:20230214T083000
DTEND;TZID=America/Vancouver:20230214T153000
DTSTAMP:20260420T182557
CREATED:20230131T225309Z
LAST-MODIFIED:20230207T001544Z
UID:49743-1676363400-1676388600@ddapes.sd51.bc.ca
SUMMARY:Ski/Board Program - Legere/McKinlay-Perry
DESCRIPTION:
URL:https://ddapes.sd51.bc.ca/event/ski-board-prgram/
END:VEVENT
BEGIN:VEVENT
DTSTART;TZID=America/Vancouver:20230213T083000
DTEND;TZID=America/Vancouver:20230213T153000
DTSTAMP:20260420T182557
CREATED:20230131T225043Z
LAST-MODIFIED:20230207T002016Z
UID:49737-1676277000-1676302200@ddapes.sd51.bc.ca
SUMMARY:SKI/BOARD Program - Mace/Zadan/Sidwell/Adrain's Gr.4s
DESCRIPTION:
URL:https://ddapes.sd51.bc.ca/event/ski-board-program-2/
END:VEVENT
BEGIN:VEVENT
DTSTART;TZID=America/Vancouver:20230208T140000
DTEND;TZID=America/Vancouver:20230208T170000
DTSTAMP:20260420T182557
CREATED:20230207T000634Z
LAST-MODIFIED:20230207T000649Z
UID:49774-1675864800-1675875600@ddapes.sd51.bc.ca
SUMMARY:Gr. 6/7 Basketball at Perley against Hutton
DESCRIPTION:
URL:https://ddapes.sd51.bc.ca/event/gr-6-7-basketball-at-perley-against-hutton/
END:VEVENT
BEGIN:VEVENT
DTSTART;TZID=America/Vancouver:20230207T083000
DTEND;TZID=America/Vancouver:20230207T083000
DTSTAMP:20260420T182557
CREATED:20230131T225240Z
LAST-MODIFIED:20230207T001438Z
UID:49741-1675758600-1675758600@ddapes.sd51.bc.ca
SUMMARY:Ski/Board Program - Legere/McKinlay-Perry
DESCRIPTION:
URL:https://ddapes.sd51.bc.ca/event/ski-board-program-4/
END:VEVENT
BEGIN:VEVENT
DTSTART;TZID=America/Vancouver:20230206T180000
DTEND;TZID=America/Vancouver:20230206T190000
DTSTAMP:20260420T182557
CREATED:20230131T224323Z
LAST-MODIFIED:20230207T000511Z
UID:49731-1675706400-1675710000@ddapes.sd51.bc.ca
SUMMARY:PAC MEETING - Library
DESCRIPTION:
URL:https://ddapes.sd51.bc.ca/event/pac-meeting/
LOCATION:School Library
END:VEVENT
BEGIN:VEVENT
DTSTART;TZID=America/Vancouver:20230206T083000
DTEND;TZID=America/Vancouver:20230206T153000
DTSTAMP:20260420T182557
CREATED:20230131T224610Z
LAST-MODIFIED:20230207T001809Z
UID:49735-1675672200-1675697400@ddapes.sd51.bc.ca
SUMMARY:SKI/BOARD Program - Mace/Zadan/Sidwell/Adrain's Gr.4s
DESCRIPTION:
URL:https://ddapes.sd51.bc.ca/event/ski-board-program/
END:VEVENT
END:VCALENDAR